BEGIN:VCALENDAR
VERSION:2.0
PRODID:-//hacksw/handcal//NONSGML v1.0//EN
BEGIN:VEVENT
SUMMARY:Vide Grenier 2026
UID:10444bbf-d63e-44de-baec-49410fea6dd2
DTSTART:20260425T220000Z
DTEND:20260426T220000Z
LOCATION:Localisation   
CATEGORIES:Sportif
STATUS:
URL;VALUE=URI:https://www.challans-novhandball.com/evenements/2026/04/26/vide-grenier-2026-2106031
END:VEVENT
END:VCALENDAR
