BEGIN:VCALENDAR
VERSION:2.0
PRODID:-//hacksw/handcal//NONSGML v1.0//EN
BEGIN:VEVENT
SUMMARY:STAGE DE HANDBALL OFFICIEL
UID:c592df34-21c5-45d1-b62f-ecf4c8d127bf
DTSTART:20260413T080000Z
DTEND:20260414T140000Z
LOCATION:Localisation   
CATEGORIES:Sportif
STATUS:
DESCRIPTION:<p>STAGE OUVERT AUX U10G, U12G, U11F, U13F, LICENCIE OU
 NON.</p>
 
 <p>STAGE EN JOURNEE COMPLETE: UN OU DEUX JOURS
 POSSIBLE.</p>
 
 <p>REPAS COMPRIS DANS LE PRIX: 20 € PAR
 JOUR</p>
 
 <p>INSCRIPTIONS VIA LES QR CODES PRESENTS SUR L'AFFICHE
 JOINTE.</p>
 
 <p>ON VOUS ATTEND, VENEZ PASSER UN BON MOMENT AVEC LES
 COPAINS ET COPINES.</p>
URL;VALUE=URI:https://www.challans-novhandball.com/evenements/2026/04/13/stage-de-handball-officiel-2428658
END:VEVENT
END:VCALENDAR
